BEGIN:VCALENDAR
VERSION:2.0
PRODID:-//Palm Beach Kennel Club - ECPv6.15.20//NONSGML v1.0//EN
CALSCALE:GREGORIAN
METHOD:PUBLISH
X-WR-CALNAME:Palm Beach Kennel Club
X-ORIGINAL-URL:https://pbkennelclub.com
X-WR-CALDESC:Events for Palm Beach Kennel Club
REFRESH-INTERVAL;VALUE=DURATION:PT1H
X-Robots-Tag:noindex
X-PUBLISHED-TTL:PT1H
BEGIN:VTIMEZONE
TZID:America/New_York
BEGIN:DAYLIGHT
TZOFFSETFROM:-0500
TZOFFSETTO:-0400
TZNAME:EDT
DTSTART:20210314T070000
END:DAYLIGHT
BEGIN:STANDARD
TZOFFSETFROM:-0400
TZOFFSETTO:-0500
TZNAME:EST
DTSTART:20211107T060000
END:STANDARD
BEGIN:DAYLIGHT
TZOFFSETFROM:-0500
TZOFFSETTO:-0400
TZNAME:EDT
DTSTART:20220313T070000
END:DAYLIGHT
BEGIN:STANDARD
TZOFFSETFROM:-0400
TZOFFSETTO:-0500
TZNAME:EST
DTSTART:20221106T060000
END:STANDARD
BEGIN:DAYLIGHT
TZOFFSETFROM:-0500
TZOFFSETTO:-0400
TZNAME:EDT
DTSTART:20230312T070000
END:DAYLIGHT
BEGIN:STANDARD
TZOFFSETFROM:-0400
TZOFFSETTO:-0500
TZNAME:EST
DTSTART:20231105T060000
END:STANDARD
END:VTIMEZONE
BEGIN:VEVENT
DTSTART;TZID=America/New_York:20220805T080000
DTEND;TZID=America/New_York:20220805T170000
DTSTAMP:20260420T070619
CREATED:20220706T190619Z
LAST-MODIFIED:20220803T200543Z
UID:26084-1659686400-1659718800@pbkennelclub.com
SUMMARY:SARATOGA: $300K TROY STAKES
DESCRIPTION:WATCH AND WAER ON: SARATOGA: $300K TROY STAKES
URL:https://pbkennelclub.com/e/saratoga-300k-troy-stakes/
CATEGORIES:All Events,Simulcast
END:VEVENT
BEGIN:VEVENT
DTSTART;TZID=America/New_York:20220804T080000
DTEND;TZID=America/New_York:20220807T233000
DTSTAMP:20260420T070619
CREATED:20220714T143933Z
LAST-MODIFIED:20220803T194711Z
UID:26203-1659600000-1659915000@pbkennelclub.com
SUMMARY:$100K PLAYER CHAMPIONSHIP MULTI-FLIGHT TOURNAMENT
DESCRIPTION:$100K PLAYER CHAMPIONSHIP MULTI-FLIGHT TOURNAMENT – $300 BUY-IN\, $100\,000 GUARANTEE.  40\,000 STARTING STACK\, 30 MINUTE BLINDS \nFLIGHT 1A…THURSDAY\, AUGUST 4 AT 11:15AM             FLIGHT 1B…FRIDAY\, AUGUST 5  AT 11:15AM \nFLIGHT 1C…SATURDAY\, AUGUST 6 AT 11:15AM         DAY 2…SUNDAY\, AUGUST 7 AT 12:15PM \n$65 SATELLITES INTO AUGUST MULTI-FLIGHT EVENT:  WED.\, AUGUST 3 AT 11:15AM & 6:15PM\, THURS.\, AUGUST 4 AT 6:15PM\, FRI.\, AUGUST 5 AT 6:15PM \n 
URL:https://pbkennelclub.com/e/100k-player-championship-multi-flight-tournament-2/
CATEGORIES:All Events,Poker
ATTACH;FMTTYPE=image/png:https://pbkennelclub.com/wp-content/uploads/AugMultiFlightTourney-1-1.png
END:VEVENT
BEGIN:VEVENT
DTSTART;TZID=America/New_York:20220731T100000
DTEND;TZID=America/New_York:20220731T150000
DTSTAMP:20260420T070619
CREATED:20220624T202331Z
LAST-MODIFIED:20220711T165901Z
UID:25896-1659261600-1659279600@pbkennelclub.com
SUMMARY:PBKC SPORTS CARD & MEMORABILIA SHOW - 10AM-3PM - FEATURING SIGNED ICON -SECOND-FLOOR POKER ROOM
DESCRIPTION:PBKC SPORTS CARD & MEMORABILIA SHOW – 10AM-3PM – FEATURING SIGNED ICON -SECOND-FLOOR POKER ROOM – GREAT VENDORS WITH SPORTS CARDS AND MEMORABILIA TO BUY\, SELL\, TRADE & MUCH MORE! FREE ADMISSION\, DOOR PRIZES\, AND LIVE REMOTE WITH ESPN RADIO. VENDOR SPACE IS AVAILABLE\, CONTACT SIGNEDICON.COM FOR MORE INFO.
URL:https://pbkennelclub.com/e/pbkc-sports-card-memorabilia-show-10am-3pm-featuring-signed-icon-second-floor-poker-room/
CATEGORIES:All Events,Live
ATTACH;FMTTYPE=image/png:https://pbkennelclub.com/wp-content/uploads/SportshowEviteBannerJULY.png
END:VEVENT
BEGIN:VEVENT
DTSTART;TZID=America/New_York:20220730T110000
DTEND;TZID=America/New_York:20220730T220000
DTSTAMP:20260420T070619
CREATED:20220624T202022Z
LAST-MODIFIED:20220624T202022Z
UID:25893-1659178800-1659218400@pbkennelclub.com
SUMMARY:SARATOGA: $600K JIM DANDY STAKES
DESCRIPTION:SARATOGA: $600K JIM DANDY STAKES\, $350K ALFRED G. VANDERBILT HANDICAP \nDEL MAR:  $400K BING CROSBY STAKES\, $300K SAN DIEGO HANDICAP
URL:https://pbkennelclub.com/e/saratoga-600k-jim-dandy-stakes/
CATEGORIES:All Events,Simulcast
END:VEVENT
BEGIN:VEVENT
DTSTART;TZID=America/New_York:20220729T181500
DTEND;TZID=America/New_York:20220729T181500
DTSTAMP:20260420T070619
CREATED:20220624T201150Z
LAST-MODIFIED:20220725T175715Z
UID:25891-1659118500-1659118500@pbkennelclub.com
SUMMARY:$10 POKER PARTY - $1000 GUARANTEE
DESCRIPTION:COME JOIN THE PARTY! \n$10 POKER PARTY WITH $1000 GUARANTEE – 6:15PM START – 2ND FLOOR TOURNAMENT ROOM \nIt’s a great opportunity to get in the game and play in a live poker tournament! \n-$1\,000 Guarantee – \n-We welcome new players with (1) free $10 initial buy-in. \n-$10 poker party will be held on the last Friday of every month. \n-Food & Drink Specials
URL:https://pbkennelclub.com/e/10-poker-party-1000-guarantee-6/
CATEGORIES:All Events,Poker
ATTACH;FMTTYPE=image/png:https://pbkennelclub.com/wp-content/uploads/10pOKERpARTY-1-1.png
END:VEVENT
BEGIN:VEVENT
DTSTART;TZID=America/New_York:20220724T110000
DTEND;TZID=America/New_York:20220724T220000
DTSTAMP:20260420T070619
CREATED:20220624T200452Z
LAST-MODIFIED:20220624T200559Z
UID:25888-1658660400-1658700000@pbkennelclub.com
SUMMARY:WOODBINE:  $500K WOODBINE OAKS
DESCRIPTION:WOODBINE:  $500K WOODBINE OAKS
URL:https://pbkennelclub.com/e/woodbine-500k-woodbine-oaks/
CATEGORIES:All Events,Simulcast
END:VEVENT
BEGIN:VEVENT
DTSTART;TZID=America/New_York:20220723T110000
DTEND;TZID=America/New_York:20220723T220000
DTSTAMP:20260420T070620
CREATED:20220624T195405Z
LAST-MODIFIED:20220628T170604Z
UID:25884-1658574000-1658613600@pbkennelclub.com
SUMMARY:MONMOUTH:  $1 MILLION HASKELL STAKES & MORE SUPER SIMULCASTS
DESCRIPTION:MONMOUTH:  $1 MILLION HASKELL STAKES\, $600K UNITED NATIONS STAKES\, $400K MONMOUTH CUP STAKES\, $400K MOLLY PITCHER STAKES; SARATOGA:  $500K COACHING CLUB AMERICAN OAKS
URL:https://pbkennelclub.com/e/monmouth-1-million-haskell-stakes/
CATEGORIES:All Events,Simulcast
END:VEVENT
BEGIN:VEVENT
DTSTART;TZID=America/New_York:20220716T110000
DTEND;TZID=America/New_York:20220716T220000
DTSTAMP:20260420T070620
CREATED:20220624T193130Z
LAST-MODIFIED:20220712T131929Z
UID:25882-1657969200-1658008800@pbkennelclub.com
SUMMARY:SARATOGA:  $500K DIANA STAKES; LONESTAR:  $300K TEXAS TURF CLASSIC : PADDOCK RESTAURANT REOPENS JULY 13TH!
DESCRIPTION:SARATOGA:  $500K DIANA STAKES; LONESTAR:  $300K TEXAS TURF CLASSIC \nWATCH THE RACES ON OVER 130 HD TVS AT THE PADDOCK RESTAURANT!
URL:https://pbkennelclub.com/e/saratoga-500k-diana-stakes-lonestar-300k-texas-turf-classic/
CATEGORIES:All Events,Simulcast
END:VEVENT
BEGIN:VEVENT
DTSTART;TZID=America/New_York:20220709T110000
DTEND;TZID=America/New_York:20220709T220000
DTSTAMP:20260420T070620
CREATED:20220624T183333Z
LAST-MODIFIED:20220628T170431Z
UID:25876-1657364400-1657404000@pbkennelclub.com
SUMMARY:BELMONT:  $1 MILLION CAESARS BELMONT DERBY INVITATIONAL & MORE BIG OTB RACES
DESCRIPTION:BELMONT:  $1 MILLION CAESARS BELMONT DERBY INVITATIONAL\, $700K BELMONT OAKS INVITATIONAL\, $400K SUBURBAN; DELAWARE: $500K DELAWARE HANDICAP; INDIANA; $300K INDIANA DERBY; PRAIRIE MEADOWS: $300K PRAIRIE MEADOWS CORNHUSKER HANDICAP
URL:https://pbkennelclub.com/e/belmont-1-million-caesars-belmont-derby-invitational/
CATEGORIES:All Events,Simulcast
END:VEVENT
BEGIN:VEVENT
DTSTART;TZID=America/New_York:20220707T080000
DTEND;TZID=America/New_York:20220710T233000
DTSTAMP:20260420T070620
CREATED:20220613T165328Z
LAST-MODIFIED:20220701T132440Z
UID:25760-1657180800-1657495800@pbkennelclub.com
SUMMARY:$100K PLAYER CHAMPIONSHIP MULTI-FLIGHT TOURNAMENT
DESCRIPTION:$100K PLAYER CHAMPIONSHIP MULTI-FLIGHT TOURNAMENT – $300 BUY-IN\, $100\,000 GUARANTEE.  40\,000 STARTING STACK\, 30 MINUTE BLINDS \nFLIGHT 1A…THURSDAY\, JULY 7 AT 11:15AM             FLIGHT 1B…FRIDAY\, JULY 8  AT 11:15AM \nFLIGHT 1C…SATURDAY\, JULY 9 4 AT 11:15AM         DAY 2…SUNDAY\, JULY 10TH AT 12:15PM \n$65 SATELLITES INTO JULY MULTI-FLIGHT EVENT:  WED.\, JULY 6 AT 11:15AM & 6:15PM\, THURS.\, JULY 7 AT 6:15PM\, FRI.\, JULY 8 AT 6:15PM \n 
URL:https://pbkennelclub.com/e/100k-player-championship-multi-flight-tournament/
CATEGORIES:All Events,Poker
ATTACH;FMTTYPE=image/png:https://pbkennelclub.com/wp-content/uploads/PokerMULTIFLIGHT100KjULY.png
END:VEVENT
BEGIN:VEVENT
DTSTART;TZID=America/New_York:20220704T120000
DTEND;TZID=America/New_York:20220704T120000
DTSTAMP:20260420T070620
CREATED:20220621T204602Z
LAST-MODIFIED:20220621T204602Z
UID:25848-1656936000-1656936000@pbkennelclub.com
SUMMARY:INDEPENDENCE DAY – LIVE NATIONAL ANTHEM
DESCRIPTION:INDEPENDENCE DAY – LIVE NATIONAL ANTHEM at NOON
URL:https://pbkennelclub.com/e/independence-day-live-national-anthem/
CATEGORIES:All Events
ATTACH;FMTTYPE=image/png:https://pbkennelclub.com/wp-content/uploads/July-4th.png
END:VEVENT
BEGIN:VEVENT
DTSTART;TZID=America/New_York:20220702T110000
DTEND;TZID=America/New_York:20220702T230000
DTSTAMP:20260420T070620
CREATED:20220621T202550Z
LAST-MODIFIED:20220621T202550Z
UID:25843-1656759600-1656802800@pbkennelclub.com
SUMMARY:CHURCHILL DOWNS:  $750K STEPHEN FOSTER\, $350K FLEUR DE LIS\, $350K WISE DAN STAKES; DELAWARE: $300K DELAWARE OAKS
DESCRIPTION:CHURCHILL DOWNS:  $750K STEPHEN FOSTER\, $350K FLEUR DE LIS\, $350K WISE DAN STAKES; DELAWARE: $300K DELAWARE OAKS
URL:https://pbkennelclub.com/e/churchill-downs-750k-stephen-foster-350k-fleur-de-lis-350k-wise-dan-stakes-delaware-300k-delaware-oaks/
CATEGORIES:All Events,Simulcast
END:VEVENT
BEGIN:VEVENT
DTSTART;TZID=America/New_York:20220626T100000
DTEND;TZID=America/New_York:20220626T150000
DTSTAMP:20260420T070620
CREATED:20220428T165530Z
LAST-MODIFIED:20220621T193930Z
UID:25208-1656237600-1656255600@pbkennelclub.com
SUMMARY:PBKC SPORTS CARD & MEMORABILIA SHOW - 10AM-3PM - FEATURING SIGNED ICON -SECOND-FLOOR POKER ROOM
DESCRIPTION:PBKC SPORTS CARD & MEMORABILIA SHOW – 10AM-3PM – FEATURING SIGNED ICON -SECOND-FLOOR POKER ROOM – GREAT VENDORS WITH SPORTS CARDS AND MEMORABILIA TO BUY\, SELL\, TRADE & MUCH MORE! FREE ADMISSION\, DOOR PRIZES\, AND LIVE REMOTE WITH ESPN RADIO. VENDOR SPACE IS AVAILABLE\, CONTACT SIGNEDICON.COM FOR MORE INFO.
URL:https://pbkennelclub.com/e/pbkc-sports-card-memorabilia-show-9am-4pm-featuring-signed-icon-second-floor-poker-room-3/
CATEGORIES:All Events
ATTACH;FMTTYPE=image/png:https://pbkennelclub.com/wp-content/uploads/SportshowEviteBannerJUNE-2.png
END:VEVENT
BEGIN:VEVENT
DTSTART;TZID=America/New_York:20220624T181500
DTEND;TZID=America/New_York:20220624T181500
DTSTAMP:20260420T070620
CREATED:20220613T173440Z
LAST-MODIFIED:20220614T174828Z
UID:25763-1656094500-1656094500@pbkennelclub.com
SUMMARY:$10 POKER PARTY - $1000 GUARANTEE
DESCRIPTION:COME JOIN THE PARTY! \n$10 POKER PARTY WITH $1000 GUARANTEE – 6:15PM START – 2ND FLOOR TOURNAMENT ROOM \nIt’s a great opportunity to get in the game and play in a live poker tournament! \n-$1\,000 Guarantee – \n-We welcome new players with (1) free $10 initial buy-in. \n-$10 poker party will be held on the last Friday of every month. \n-Food & Drink Specials
URL:https://pbkennelclub.com/e/10-poker-party-1000-guarantee-5/
CATEGORIES:All Events,Poker
ATTACH;FMTTYPE=image/jpeg:https://pbkennelclub.com/wp-content/uploads/poker-party.jpeg
END:VEVENT
BEGIN:VEVENT
DTSTART;VALUE=DATE:20220619
DTEND;VALUE=DATE:20220620
DTSTAMP:20260420T070620
CREATED:20220614T143229Z
LAST-MODIFIED:20220614T174644Z
UID:25769-1655596800-1655683199@pbkennelclub.com
SUMMARY:HAPPY FATHER'S DAY - COME TO PBKC FOR FUN AND GREAT DINING IN THE PADDOCK.
DESCRIPTION:TREAT DAD TO LUNCH IN THE PADDOCK RESTAURANT AND CHECK OUT THE EXCITING OFF TRACK BETTING ACTION. \nCALL 561-683-2222\, EXT. 199 FOR RESERVATIONS. \nYOU CAN ALSO VISIT THE POKER ROOM FOR CASH GAMES AND TOURNAMENT ACTION.
URL:https://pbkennelclub.com/e/happy-fathers-day-come-to-pbkc-for-fun-and-great-dining-in-the-paddock/
ATTACH;FMTTYPE=image/jpeg:https://pbkennelclub.com/wp-content/uploads/fathers-700X300.jpg
END:VEVENT
BEGIN:VEVENT
DTSTART;VALUE=DATE:20220611
DTEND;VALUE=DATE:20220612
DTSTAMP:20260420T070620
CREATED:20220428T161924Z
LAST-MODIFIED:20220607T124212Z
UID:25201-1654905600-1654991999@pbkennelclub.com
SUMMARY:BELMONT STAKES – SIMULCAST WAGERING ON THE THIRD JEWEL OF THE TRIPLE CROWN
DESCRIPTION:BELMONT STAKES – SIMULCAST WAGERING ON THE THIRD JEWEL OF THE TRIPLE CROWN \nTHE 1.5 MILLION BELMONT PLUS STAKES AND OTHER HUGE THOROUGHBRED RACES  \nKENTUCKY DERBY WINNER\, RICH STRIKE\, IS SCHEDULED TO COMPETE! \n• Gates open 10:45am\, Belmont Park post time 11:20am\n• Belmont Stakes post time is 6:45pm (subject to change) \nOther simulcast action: $1 Million Hill n’ Dale Metropolitan Handicap\, $750K Manhattan Stakes\, $500K Acorn Stakes\, $500K Longines Just A Game Stakes\, \n$500K Ogden Phipps Stakes\, $400K Brooklyn Stakes\, $400K Jaipur\, $400K Woody Stephens Stakes \nAdvanced wagering for Belmont Stakes available on Friday\, June 10 from 11:30am \nMake reservations in the Paddock Restaurant for Belmont Day 561-683-2222\, ext. 199
URL:https://pbkennelclub.com/e/belmont-stakes-simulcast-wagering-on-the-third-jewel-of-the-triple-crown/
CATEGORIES:All Events,Simulcast
END:VEVENT
BEGIN:VEVENT
DTSTART;TZID=America/New_York:20220605T120000
DTEND;TZID=America/New_York:20220605T170000
DTSTAMP:20260420T070620
CREATED:20220523T194957Z
LAST-MODIFIED:20220524T135709Z
UID:25545-1654430400-1654448400@pbkennelclub.com
SUMMARY:LIVE LIKE JAKE POKER 4 PREVENTION TOURNAMENT
DESCRIPTION:Support a local non-profit with an incredible cause! \nnoon start –Texas Hold’em Tournament $50 buy-in plus re-buys and add-ons. 50% of the buy-ins and re-buys in prize pool – top 10% finishers paid. Proceeds benefit childhood drowning prevention. For tickets\, visit: \nhttps://livelikejake.com/event/live-like-jake-poker-4-prevention-tournament/
URL:https://pbkennelclub.com/e/live-like-jake-poker-4-prevention-tournament/
CATEGORIES:All Events,Poker
ATTACH;FMTTYPE=image/png:https://pbkennelclub.com/wp-content/uploads/LLJPoker.png
END:VEVENT
BEGIN:VEVENT
DTSTART;TZID=America/New_York:20220603T180000
DTEND;TZID=America/New_York:20220603T220000
DTSTAMP:20260420T070620
CREATED:20220223T151251Z
LAST-MODIFIED:20220223T151251Z
UID:24341-1654279200-1654293600@pbkennelclub.com
SUMMARY:COMEDIAN JIMMY SHUBERT LIVE IN THE PADDOCK
DESCRIPTION:JIMMY SHUBERT HAS BUILT AN IMPRESSIVE RESUME. AS A COMEDIAN\, HE IS ONE OF THE BUSIEST COMEDIANS WORKING TODAY. JIMMY WAS A FINALIST ON NBC’S “LAST COMIC STANDING” AND THE CLOSING ACT ON DAVE ATELL’S COMEDY UNDERGROUND ON COMEDY CENTRAL. HE ALSO JUST WRAPPED POST- PRODUCTION ON HIS BRAND NEW HOUR SPECIAL ENTITLED “ZERO TOLERANCE” – SOON TO BE SEEN ON A PREMIUM CABLE NETWORK. \n  \nTICKETS
URL:https://pbkennelclub.com/e/comedian-jimmy-shubert-live-in-the-paddock/
CATEGORIES:All Events,Live
ATTACH;FMTTYPE=image/jpeg:https://pbkennelclub.com/wp-content/uploads/JimmyShubertresized.jpg
END:VEVENT
BEGIN:VEVENT
DTSTART;TZID=America/New_York:20220602T080000
DTEND;TZID=America/New_York:20220605T233000
DTSTAMP:20260420T070620
CREATED:20220513T171218Z
LAST-MODIFIED:20220513T171218Z
UID:25487-1654156800-1654471800@pbkennelclub.com
SUMMARY:$50K PLAYER CHAMPIONSHIP MULTI-FLIGHT TOURNAMENT
DESCRIPTION:$50K PLAYER CHAMPIONSHIP MULTI-FLIGHT TOURNAMENT – $300 BUY-IN\, $50\,000 GUARANTEE.  40\,000 STARTING STACK\, 30 MINUTE BLINDS \nFLIGHT 1A…THURSDAY\, JUNE 2 AT 11:15AM             FLIGHT 1B…FRIDAY\, JUNE 3 AT 11:15AM \nFLIGHT 1C…SATURDAY\, JUNE 4 AT 11:15AM DAY 2…SUNDAY\, JUNE 5 AT 12:15PM \n$65 SATELLITES INTO MAY 2022 PLAYER CHAMPIONSHIP:  WED.\, JUNE 1 AT 6:15PM\, THURS.\, JUNE 2 AT 6:15PM\, FRI.\, JUNE 3 AT 6:15PM
URL:https://pbkennelclub.com/e/50k-player-championship-multi-flight-tournament/
CATEGORIES:All Events,Poker
ATTACH;FMTTYPE=image/png:https://pbkennelclub.com/wp-content/uploads/PokerMULTIFLIGHT.png
END:VEVENT
BEGIN:VEVENT
DTSTART;TZID=America/New_York:20220530T113000
DTEND;TZID=America/New_York:20220530T210000
DTSTAMP:20260420T070620
CREATED:20220513T170317Z
LAST-MODIFIED:20220513T170447Z
UID:25484-1653910200-1653944400@pbkennelclub.com
SUMMARY:MEMORIAL DAY – PADDOCK ROOM OPEN FOR LUNCH FROM 11:30AM- SANTA ANITA HORSE RACES
DESCRIPTION:SANTA ANITA:  $500K SHOEMAKER MILE\, $400K GAMELY STAKES\, $400K HOLLYWOOD GOLD CUP; LONE STAR: $400K STEVE SEXTON MILE STAKES\, $300K TEXAS DERBY  \n  \nPADDOCK RESTAURANT IS OPEN FOR LUNCH FROM 11:30AM
URL:https://pbkennelclub.com/e/memorial-day-paddock-room-open-for-lunch-from-1130am-santa-anita-horse-races/
CATEGORIES:All Events,Dining
ATTACH;FMTTYPE=image/png:https://pbkennelclub.com/wp-content/uploads/memorialDay.png
END:VEVENT
BEGIN:VEVENT
DTSTART;TZID=America/New_York:20220530T110000
DTEND;TZID=America/New_York:20220530T230000
DTSTAMP:20260420T070620
CREATED:20220330T200514Z
LAST-MODIFIED:20220330T200514Z
UID:24895-1653908400-1653951600@pbkennelclub.com
SUMMARY:MEMORIAL DAY - SANTA ANITA:  $500K SHOEMAKER MILE\, $400K GAMELY STAKES\, $400K HOLLYWOOD GOLD CUP; LONE STAR: $400K STEVE SEXTON MILE STAKES\, $300K TEXAS DERBY
DESCRIPTION:MEMORIAL DAY – SANTA ANITA:  $500K SHOEMAKER MILE\, $400K GAMELY STAKES\, $400K HOLLYWOOD GOLD CUP; LONE STAR: $400K STEVE SEXTON MILE STAKES\, $300K TEXAS DERBY
URL:https://pbkennelclub.com/e/memorial-day-santa-anita-500k-shoemaker-mile-400k-gamely-stakes-400k-hollywood-gold-cup-lone-star-400k-steve-sexton-mile-stakes-300k-texas-derby/
CATEGORIES:All Events,Simulcast
END:VEVENT
BEGIN:VEVENT
DTSTART;TZID=America/New_York:20220529T090000
DTEND;TZID=America/New_York:20220529T160000
DTSTAMP:20260420T070620
CREATED:20220329T202404Z
LAST-MODIFIED:20220519T195101Z
UID:24859-1653814800-1653840000@pbkennelclub.com
SUMMARY:PBKC SPORTS CARD & MEMORABILIA SHOW - 9AM-4PM - 1 YEAR ANNIVERSARY FEATURING SIGNED ICON -SECOND-FLOOR POKER ROOM
DESCRIPTION:PBKC SPORTS CARD & MEMORABILIA SHOW – 9AM-4PM – 1 YEAR ANNIVERSARY FEATURING SIGNED ICON -SECOND-FLOOR POKER ROOM – OVER 60 VENDORS WITH SPORTS CARDS AND MEMORABILIA TO BUY\, SELL\, TRADE & MUCH MORE! FREE ADMISSION\, DOOR PRIZES AND LIVE BREAKS. VENDOR SPACE IS AVAILABLE\, CONTACT SIGNEDICON.COM FOR MORE INFO. WIN GREAT PRIZES: A MIAMI HURRICANES FRAMED PORTRAIT SIGNED BY MIAMI DOLPHINS LEGENDS KEN DORSEY\, VINCE WILFORK\, ANDRE ROLLE\, JERMY SHOCKEY AND ED REED – $50 BETTING VOUCHER – $50 PADDOCK RESTAURANT GIFT CERTIFICATE – 4 TICKETS TO SEE COMEDIAN JIMMY SHUBERT! \nLIVE BROADCAST FROM ESPN RADIO. \n  \nPB Sports Card Memorabilia Flyer
URL:https://pbkennelclub.com/e/pbkc-sports-card-memorabilia-show-9am-4pm-featuring-signed-icon-second-floor-poker-room-2/
CATEGORIES:All Events
ATTACH;FMTTYPE=image/png:https://pbkennelclub.com/wp-content/uploads/SportshowEviteBanner-2.png
END:VEVENT
BEGIN:VEVENT
DTSTART;TZID=America/New_York:20220527T181500
DTEND;TZID=America/New_York:20220527T181500
DTSTAMP:20260420T070620
CREATED:20220428T143957Z
LAST-MODIFIED:20220428T143957Z
UID:25197-1653675300-1653675300@pbkennelclub.com
SUMMARY:$10 POKER PARTY - $1000 GUARANTEE
DESCRIPTION:COME JOIN THE PARTY! \n$10 POKER PARTY WITH $1000 GUARANTEE – 6:15PM START – 2ND FLOOR TOURNAMENT ROOM \nIt’s a great opportunity to get in the game and play in a live poker tournament! \n-$1\,000 Guarantee – January $10 poker party prize pool was $3\,850 \n-We welcome new players with (1) free $10 initial buy-in. \n-$10 poker party will be held on the last Friday of every month. \n-Food & Drink Specials
URL:https://pbkennelclub.com/e/10-poker-party-1000-guarantee-4/
CATEGORIES:All Events,Poker
ATTACH;FMTTYPE=image/jpeg:https://pbkennelclub.com/wp-content/uploads/poker-party.jpeg
END:VEVENT
BEGIN:VEVENT
DTSTART;TZID=America/New_York:20220526T073000
DTEND;TZID=America/New_York:20220526T150000
DTSTAMP:20260420T070620
CREATED:20220331T175302Z
LAST-MODIFIED:20220331T180043Z
UID:24905-1653550200-1653577200@pbkennelclub.com
SUMMARY:RGF 7TH ANNUAL SPRING GOLF TOURNAMENT
DESCRIPTION:RGF 7TH ANNUAL SPRING GOLF TOURNAMENT – IT’S A WONDERFUL DAY OF GOLF AT ABACOA GOLF CLUB\, WITH GREAT FOOD AND RAFFLES.  BENEFITTING CHARITIES:  FORGOTTEN SOLDIER OUTREACH\, UNIFIED DREAM\, AND WOUNDED VETERANS RELIEF FUND.  CALL 561-683-2222\, 140 OR VISIT ROONEYSGOLFFOUNDATION.ORG FOR MORE INFORMATION.
URL:https://pbkennelclub.com/e/rgf-7th-annual-spring-golf-tournament/
CATEGORIES:All Events,Community
ATTACH;FMTTYPE=image/jpeg:https://pbkennelclub.com/wp-content/uploads/SpringGolfSlide-600x400-1.jpg
END:VEVENT
BEGIN:VEVENT
DTSTART;TZID=America/New_York:20220523T110000
DTEND;TZID=America/New_York:20220523T130000
DTSTAMP:20260420T070620
CREATED:20220513T155728Z
LAST-MODIFIED:20220517T125154Z
UID:25481-1653303600-1653310800@pbkennelclub.com
SUMMARY:THE SPORTS BUSINESS CLUB OF THE PALM BEACHES
DESCRIPTION: \n\n\n\n\n\n\nMon.\, May 23                                  \n Sports Business Club of the Palm Beaches Event in the Paddock  \n–Doors open 11am with buffet / presentation at noon \nThis month’s event features the top sports moments in Palm Beach County sports history – in conjunction with the Palm Beach County Sports Commission the Palm Beach Post and other businesses and civic leaders.  For tickets: https://www.eventbrite.com/e/sports-business-club-presented-by-pbkc-at-the-paddock-tickets-333248333737 \nThe Sports Business Club of The Palm Beaches is South Florida’s premier sports organization focused on educating about the value of sports in local businesses. Each month\, The Sports Business Club of The Palm Beaches will cover a new topic in sports. We will feature some of the best speakers in the sports industry throughout South Florida. This is an event any sports fan will not want to miss. Our events are open to the public for a $20.00 ticket fee. \n\nPat Rooney and Rick Harrow have come together to Co-Chair and create The Sports Business Club of the Palm Beaches\, the first of its kind in the region to celebrate and explore all components of the 50 years of the sports business in the Palm Beaches. The first four events featured local sports and economic development leaders; the golf business; the football business; and baseball in South Florida. \n\nFor any questions\, please contact Pat Sullivan at pats@pbkennelclub.com \n\nTICKETS \n\n  \nBuffet & Networking 11am – 12pm \nProgram begins at 12pm \nCash Bar Available \n$20 Tickets purchased on Eventbrite or at the door. \n$5 Valet Parking \n\n\n\n\n\n  \n\n 
URL:https://pbkennelclub.com/e/the-sports-business-club-of-the-palm-beaches-with-billy-cunningham-in-the-paddock/
CATEGORIES:All Events,Live
ATTACH;FMTTYPE=image/png:https://pbkennelclub.com/wp-content/uploads/TheSportsCardClub.png
END:VEVENT
BEGIN:VEVENT
DTSTART;TZID=America/New_York:20220521T100000
DTEND;TZID=America/New_York:20220521T230000
DTSTAMP:20260420T070620
CREATED:20220330T200317Z
LAST-MODIFIED:20220517T133026Z
UID:24892-1653127200-1653174000@pbkennelclub.com
SUMMARY:PREAKNESS STAKES – SIMULCAST WAGERING ON THE SECOND JEWEL OF THE TRIPLE CROWN
DESCRIPTION:PREAKNESS STAKES – 10AM – PBKC GATES & MUTUEL WINDOWS OPEN / 10:30AM PIMLICO POST TIME – WATCH & WAGER ON THE SECOND JEWEL OF THE TRIPLE CROWN THE $1.5 MILLION PREAKNESS STAKES (6:50PM PREAKNESS POST TIME).  ENJOY THE TRACKSIDE BBQ WITH COLD DRINKS AND YOUR GRILLED FAVORITES FROM NOON. \nPBKC-PreaknessBelmont-2022-Flyer REV. 5-11
URL:https://pbkennelclub.com/e/preakness-stakes-simulcast-wagering-on-the-second-jewel-of-the-triple-crown/
CATEGORIES:All Events,Simulcast
END:VEVENT
BEGIN:VEVENT
DTSTART;TZID=America/New_York:20220520T100000
DTEND;TZID=America/New_York:20220520T230000
DTSTAMP:20260420T070620
CREATED:20220330T200131Z
LAST-MODIFIED:20220516T155709Z
UID:24889-1653040800-1653087600@pbkennelclub.com
SUMMARY:PIMLICO:  $300K PIMLICO SPECIAL
DESCRIPTION:PIMLICO:  $300K PIMLICO SPECIAL – 11AM – PBKC GATES & MUTUEL WINDOWS OPEN / 11:30AM PIMLICO POST TIME
URL:https://pbkennelclub.com/e/pimlico-300k-pimlico-special/
CATEGORIES:All Events,Simulcast
END:VEVENT
BEGIN:VEVENT
DTSTART;TZID=America/New_York:20220515T113000
DTEND;TZID=America/New_York:20220515T170000
DTSTAMP:20260420T070620
CREATED:20220329T202614Z
LAST-MODIFIED:20220329T202614Z
UID:24863-1652614200-1652634000@pbkennelclub.com
SUMMARY:CARDS FOR CYSTIC FIBROSIS/PIPER’S ANGELS FOUNDATION CHARITY POKER TOURNAMENT
DESCRIPTION:CARDS FOR CYSTIC FIBROSIS/PIPER’S ANGELS FOUNDATION CHARITY POKER TOURNAMENT – 2ND FLOOR POKER ROOM – 11:30AM REGISTRATION/12:30PM START – TEXAS HOLD’EM TOURNAMENT WITH BIG $$ PAYOFFS (TOP 10% FINISHERS PAID).  $50 BUY-IN/$20 RE-BUYS\, RAFFLES & MORE.  CONTACT: TATIANA TIMS TATIANA@PIPERSANGELS.ORG
URL:https://pbkennelclub.com/e/cards-for-cystic-fibrosis-pipers-angels-foundation-charity-poker-tournament/
CATEGORIES:All Events,Poker
ATTACH;FMTTYPE=image/png:https://pbkennelclub.com/wp-content/uploads/5-15-CARDS-FOR-CF-CHARITY-POKER-002.png
END:VEVENT
BEGIN:VEVENT
DTSTART;TZID=America/New_York:20220508T100000
DTEND;TZID=America/New_York:20220508T140000
DTSTAMP:20260420T070620
CREATED:20220329T192943Z
LAST-MODIFIED:20220425T183236Z
UID:24853-1652004000-1652018400@pbkennelclub.com
SUMMARY:MOTHER’S DAY PADDOCK BRUNCH BUFFET (10AM – 2PM) & ON-TRACK FAMILY FUN FESTIVAL (11AM-2PM)
DESCRIPTION:MOTHER’S DAY PADDOCK BRUNCH BUFFET (10AM – 2PM) & ON-TRACK FAMILY FUN FESTIVAL (11AM-2PM) – ENJOY AN ALL-YOU-CAN-EAT DELICIOUS BRUNCH BUFFET IN THE PADDOCK FEATURING ALL YOUR FAVORITE BREAKFAST ITEMS\, SALADS\, SIDES\, ENTREES\, DESSERTS. RESERVATIONS REQUIRED CALL 561-683-2222\, EXT. 199. AND CHECK OUT THE FAMILY FUN FESTIVAL ON TRACK. \n  \nMothersDay-2022-Flyer \nRESERVATIONS
URL:https://pbkennelclub.com/e/mothers-day-paddock-brunch-buffet-10am-2pm-on-track-family-fun-festival-11am-2pm/
CATEGORIES:All Events,Dining
ATTACH;FMTTYPE=image/jpeg:https://pbkennelclub.com/wp-content/uploads/HC-Slides-600x400MothersDay.jpg
END:VEVENT
BEGIN:VEVENT
DTSTART;TZID=America/New_York:20220507T160000
DTEND;TZID=America/New_York:20220507T200000
DTSTAMP:20260420T070620
CREATED:20220307T190256Z
LAST-MODIFIED:20220307T190256Z
UID:24650-1651939200-1651953600@pbkennelclub.com
SUMMARY:DERBY FEST LIVE MUSIC FEATURING SPRED THE DUB
DESCRIPTION:COME CHECK OUT THE “GOOD TIME REGGAE BAND” FROM SOUTH FLORIDA\, SPRED THE DUB. THEY’VE OPENED FOR THE LIKES OF THE DIRTY HEADS AND NOFX.
URL:https://pbkennelclub.com/e/derby-fest-live-music-featuring-spred-the-dub/
CATEGORIES:Live
ATTACH;FMTTYPE=image/png:https://pbkennelclub.com/wp-content/uploads/SPREDTHEDUBweb.png
END:VEVENT
END:VCALENDAR