BEGIN:VCALENDAR
VERSION:2.0
PRODID:-//Palm Beach Kennel Club - ECPv6.15.20//NONSGML v1.0//EN
CALSCALE:GREGORIAN
METHOD:PUBLISH
X-ORIGINAL-URL:https://pbkennelclub.com
X-WR-CALDESC:Events for Palm Beach Kennel Club
REFRESH-INTERVAL;VALUE=DURATION:PT1H
X-Robots-Tag:noindex
X-PUBLISHED-TTL:PT1H
BEGIN:VTIMEZONE
TZID:America/New_York
BEGIN:DAYLIGHT
TZOFFSETFROM:-0500
TZOFFSETTO:-0400
TZNAME:EDT
DTSTART:20210314T070000
END:DAYLIGHT
BEGIN:STANDARD
TZOFFSETFROM:-0400
TZOFFSETTO:-0500
TZNAME:EST
DTSTART:20211107T060000
END:STANDARD
BEGIN:DAYLIGHT
TZOFFSETFROM:-0500
TZOFFSETTO:-0400
TZNAME:EDT
DTSTART:20220313T070000
END:DAYLIGHT
BEGIN:STANDARD
TZOFFSETFROM:-0400
TZOFFSETTO:-0500
TZNAME:EST
DTSTART:20221106T060000
END:STANDARD
BEGIN:DAYLIGHT
TZOFFSETFROM:-0500
TZOFFSETTO:-0400
TZNAME:EDT
DTSTART:20230312T070000
END:DAYLIGHT
BEGIN:STANDARD
TZOFFSETFROM:-0400
TZOFFSETTO:-0500
TZNAME:EST
DTSTART:20231105T060000
END:STANDARD
END:VTIMEZONE
BEGIN:VEVENT
DTSTART;TZID=America/New_York:20220319T180000
DTEND;TZID=America/New_York:20220319T210000
DTSTAMP:20260420T092411
CREATED:20220209T202716Z
LAST-MODIFIED:20220209T202716Z
UID:24176-1647712800-1647723600@pbkennelclub.com
SUMMARY:ROAD TO DERBY FEST LIVE MUSIC SERIES WITH JUNA N JOEY
DESCRIPTION:ROAD TO DERBY FEST LIVE MUSIC SERIES WITH JUNA N JOEY FROM 6-9PM – ON-TRACK LIVE BAND\, PLUS TRACKSIDE PARTY WITH BBQ AND BAR AND FUN ACTIVITIES!
URL:https://pbkennelclub.com/e/road-to-derby-fest-live-music-series-with-juna-n-joey/
CATEGORIES:All Events,Live
ATTACH;FMTTYPE=image/png:https://pbkennelclub.com/wp-content/uploads/JUNANJOEY.png
END:VEVENT
BEGIN:VEVENT
DTSTART;TZID=America/New_York:20220319T110000
DTEND;TZID=America/New_York:20220319T230000
DTSTAMP:20260420T092411
CREATED:20220209T200137Z
LAST-MODIFIED:20220209T200137Z
UID:24173-1647687600-1647730800@pbkennelclub.com
SUMMARY:OAKLAWN PARK:  $500K ESSEX HANDICAP
DESCRIPTION:OAKLAWN PARK:  $500K ESSEX HANDICAP
URL:https://pbkennelclub.com/e/oaklawn-park-500k-essex-handicap/
CATEGORIES:All Events,Simulcast
END:VEVENT
BEGIN:VEVENT
DTSTART;TZID=America/New_York:20220317T173000
DTEND;TZID=America/New_York:20220317T213000
DTSTAMP:20260420T092411
CREATED:20220208T212712Z
LAST-MODIFIED:20220314T190602Z
UID:24164-1647538200-1647552600@pbkennelclub.com
SUMMARY:ST. PATRICK’S DAY PARTY IN THE PADDOCK RESTAURANT
DESCRIPTION:ST. PATRICK’S DAY PARTY IN THE PADDOCK RESTAURANT – FROM 5:30PM – \nTIME TO PUT ON YOUR GREEN AND CELEBRATE ST. PAT’S DAY WITH IRISH MUSIC BY HUGH O’NEILL (FROM 5:30-9:30PM) AND THE TIR NA GREINE DANCERS (6:45PM) \nENJOY AN AMAZING ALL-YOU-CAN-EAT BUFFET (FROM 6PM) WITH ALL YOUR IRISH FAVORITES INCLUDING:  CORNED BEEF & CABBAGE\, IRISH BANGERS & MASH\, SHEPARDS PIE\, SODA BREAD\, ASSORTED DESSERTS & MORE.  $30 PER PERSON INCLUDES SOFT BEVERAGE. \nFULL BAR AND WINE LIST ARE AVAILABLE WITH IRISH FAVORITES – GUINNESS STOUT\, SMITHWICK’S ALE\, HARP LAGER\, BUSHMILLS\, JAMESON\, IRISH COFFEE & MORE. \nRESERVATIONS REQUIRED\, CALL 561-683-2222\, EXT. 199
URL:https://pbkennelclub.com/e/st-patricks-day-party-in-the-paddock-restaurant/
CATEGORIES:All Events,Dining,Live
ATTACH;FMTTYPE=image/png:https://pbkennelclub.com/wp-content/uploads/St.Paddys-Day-2.png
END:VEVENT
BEGIN:VEVENT
DTSTART;TZID=America/New_York:20220312T080000
DTEND;TZID=America/New_York:20220312T220000
DTSTAMP:20260420T092411
CREATED:20220208T202705Z
LAST-MODIFIED:20220208T202822Z
UID:24160-1647072000-1647122400@pbkennelclub.com
SUMMARY:TAMPA DOWNS:  $400K LAMBHOLM SOUTH TAMPA BAY DERBY; OAKLAWN:  $350K AZERI STAKES
DESCRIPTION:TAMPA DOWNS:  $400K LAMBHOLM SOUTH TAMPA BAY DERBY; OAKLAWN:  $350K AZERI STAKES
URL:https://pbkennelclub.com/e/tampa-downs-400k-lambholm-south-tampa-bay-derby-oaklawn-350k-azeri-stakes/
CATEGORIES:All Events,Simulcast
END:VEVENT
BEGIN:VEVENT
DTSTART;TZID=America/New_York:20220311T183000
DTEND;TZID=America/New_York:20220311T230000
DTSTAMP:20260420T092411
CREATED:20220121T193102Z
LAST-MODIFIED:20220121T193102Z
UID:23918-1647023400-1647039600@pbkennelclub.com
SUMMARY:VICTORIA JACKSON LIVE IN THE PADDOCK
DESCRIPTION:DON’T MISS YOUR OPPORTUNITY TO SEE VICTORIA JACKSON FROM SATURDAY NIGHT LIVE AT THE PADDOCK ON FRIDAY\, MARCH 11TH. \nABOUT THIS EVENT \nBORN IN 1959\, VICTORIA JACKSON GREW UP IN A BIBLE-BELIEVING\, PIANO-PLAYING\, TV-FREE HOME IN MIAMI. HER FATHER COACHED GYMNASTICS SO SHE COMPETED FROM AGE 5-18. HER GYMNASTIC SKILL LED TO A COLLEGE SCHOLARSHIP TO FURMAN UNIVERSITY\, WHERE SHE WAS CAST IN HER FIRST PLAY AND GOT THE ACTING BUG. \nWHEN JOHNNY CRAWFORD (THE RIFLEMAN) MET HER AT A BIRMINGHAM SUMMER STOCK PRODUCTION\, HE BOUGHT HER A ONE-WAY TICKET TO HOLLYWOOD TO BE IN HIS NIGHT CLUB ACT. FOR TWO YEARS\, SHE HELD ODD JOBS IN THE SHOW-BIZ CAPITAL — AS A CIGARETTE GIRL\, WAITRESS\, AND TYPIST — UNTIL JOHNNY CARSON NOTICED HER STAND-UP ROUTINE AND PUT HER ON THE TONIGHT SHOW… TWENTY TIMES. AFTER THAT\, SHE STARRED IN MANY MOVIES AND TV SHOWS\, MOST NOTABLY SIX SEASONS ON SATURDAY NIGHT LIVE. \nJACKSON WAS REUNITED WITH AND MARRIED HER HIGH SCHOOL SWEETHEART\, HELICOPTER PILOT PAUL WESSEL IN 1992 AND WHEN HE RETIRED IN 2013 FROM THE MIAMI DADE POLICE DEPT. THEY MOVED TO NASHVILLE TO BE NEAR THEIR DAUGHTERS AND GRANDCHILDREN. JACKSON STILL APPEARS IN OCCASIONAL FILMS\, DOES STAND UP COMEDY\, SINGS HER ORIGINAL UKULELE SONGS AROUND TOWN AND MOST RECENTLY WAS NOMINATED FOR BEST SUPPORTING ACTRESS BY THE INTERNATIONAL CHRISTIAN FILM FESTIVAL FOR HER ROLE AS ALMA IN LOST HEART (2021). JACKSON AUTHORED IS MY BOW TOO BIG? PUBLISHED BY WHITE HALL IN 2012 ABOUT HOW SHE GOT ON TV\, AND IN 2017 SHE WROTE LAVENDER HAIR\, PUBLISHED BY BROADSTREET\, ABOUT HER BREAST CANCER JOURNEY AND RECOVERY. \nJACKSON JUST FINISHED SHOOTING ROLES IN THE FEATURE FILMS INTO THE SPOTLIGHT AND THROUGH THE EYES OF GRACE. SHE ENJOYS HER GRANDCHILDREN AND OCCASIONAL STAND UP GIGS. \nPBKC AT THE PADDOCK IS PERFECTLY SET UP FOR SHOWS AND COMEDIANS WITH ITS CONVENIENT LOCATION\, TIERED ROOM\, SEATING FOR 300\, GREAT FOOD\, FULL BAR\, BEAUTIFUL DÉCOR AND MORE. \n  \nBUY TICKETS HERE
URL:https://pbkennelclub.com/e/victoria-jackson-live-in-the-paddock/
CATEGORIES:All Events,Live
ATTACH;FMTTYPE=image/jpeg:https://pbkennelclub.com/wp-content/uploads/VictoriaJacksonresized.jpg
END:VEVENT
BEGIN:VEVENT
DTSTART;TZID=America/New_York:20220309T080000
DTEND;TZID=America/New_York:20220320T233000
DTSTAMP:20260420T092411
CREATED:20220208T183100Z
LAST-MODIFIED:20220224T144344Z
UID:24147-1646812800-1647819000@pbkennelclub.com
SUMMARY:PALM BEACH SPRING POKER CLASSIC W/ POKER EXECUTIVE’S JIMMY SOMMERFELD
DESCRIPTION:PB-SpringClassic-2022-Flyer \n  \nPALM BEACH SPRING POKER CLASSIC W/ POKER EXECUTIVE’S JIMMY SOMMERFELD \n*$350K IN GUARANTEES * DEEP STACKS * GREAT STRUCTURES  \nLIVE STREAMING FINAL TABLES ON TWITCH & YOUTUBE
URL:https://pbkennelclub.com/e/palm-beach-spring-poker-classic-w-poker-executives-jimmy-sommerfeld/
CATEGORIES:All Events,Poker
ATTACH;FMTTYPE=image/png:https://pbkennelclub.com/wp-content/uploads/POKERSpringClassic.png
END:VEVENT
BEGIN:VEVENT
DTSTART;TZID=America/New_York:20220307T110000
DTEND;TZID=America/New_York:20220307T130000
DTSTAMP:20260420T092411
CREATED:20220224T140630Z
LAST-MODIFIED:20220224T140942Z
UID:24347-1646650800-1646658000@pbkennelclub.com
SUMMARY:THE SPORTS BUSINESS CLUB OF THE PALM BEACHES\, IN THE PADDOCK
DESCRIPTION: \n\n\n\n\n\nTHE SPORTS BUSINESS CLUB OF THE PALM BEACHES IS SOUTH FLORIDA’S PREMIER SPORTS ORGANIZATION FOCUSED ON EDUCATING ABOUT THE VALUE OF SPORTS IN LOCAL BUSINESSES. EACH MONTH\, THE SPORTS BUSINESS CLUB OF THE PALM BEACHES WILL COVER A NEW TOPIC IN SPORTS. WE WILL FEATURE SOME OF THE BEST SPEAKERS IN THE SPORTS INDUSTRY THROUGHOUT SOUTH FLORIDA. THIS IS AN EVENT ANY SPORTS FAN WILL NOT WANT TO MISS. OUR EVENTS ARE OPEN TO THE PUBLIC FOR A $20.00 TICKET FEE \nONE OF OUR FEATURED SPEAKERS THIS MONTH IS BOB DUPUY\, A PARTNER IN THE NEW YORK OFFICE OF FOLEY & LARDNER\, LLP\, AND SERVES IN ITS SPORTS AND ENTERTAINMENT GROUP. PRIOR TO REJOINING FOLEY AS A PARTNER IN 2011\, HE SERVED AS PRESIDENT AND CHIEF OPERATING OFFICER OF MAJOR LEAGUE BASEBALL. DURING HIS TENURE AT MLB\, HE SERVED AS THE INITIAL CEO OF MLB ADVANCED MEDIA AND CHAIRMAN OF ITS BOARD FROM ITS INCEPTION IN 2001 THROUGH 2010. BOB IS ALSO THE LEAD CONTRIBUTOR IN MY “THE SPORTS BUSINESS HANDBOOK: INSIGHTS FROM 100+ LEADERS WHO SHAPED 50 YEARS OF THE INDUSTRY\,” TO BE REISSUED AS A POST-PANDEMIC BUSINESS ENCYCLOPEDIA THIS SUMMER. \nJOIN US TUESDAY\, MARCH 7TH\, 2022 FOR OUR LUNCHEON. DOORS WILL OPEN AT 11AM AND OUR FEATURED SPEAKER WILL BEGIN AT 12PM.  \nFOR ANY QUESTIONS\, PLEASE CONTACT JESSICA COY AT JCOY@PBKENNELCLUB.COM \n  \nBUFFET & NETWORKING 11AM – 12PM \nPROGRAM BEGINS AT 12PM \nCASH BAR AVAILABLE \n$20 TICKETS PURCHASED ON EVENTBRITE OR AT THE DOOR. \n$5 VALET PARKING \n\n\n\n\n\n  \n\nBUY TICKETS HERE
URL:https://pbkennelclub.com/e/the-sports-business-club-of-the-palm-beaches-in-the-paddock-3/
CATEGORIES:All Events,Live
ATTACH;FMTTYPE=image/png:https://pbkennelclub.com/wp-content/uploads/TheSportsCardClub.png
END:VEVENT
BEGIN:VEVENT
DTSTART;TZID=America/New_York:20220306T113000
DTEND;TZID=America/New_York:20220306T210000
DTSTAMP:20260420T092411
CREATED:20220208T170537Z
LAST-MODIFIED:20220208T180443Z
UID:24144-1646566200-1646600400@pbkennelclub.com
SUMMARY:FULL BATTLE RATTLE CHARITY POKER TOURNAMENT BENEFITING FORGOTTEN SOLDIERS OUTREACH
DESCRIPTION:FULL BATTLE RATTLE CHARITY POKER TOURNAMENT BENEFITING FORGOTTEN SOLDIERS OUTREACH – 2ND FLOOR POKER ROOM – REGISTER AT FORGOTTENSOLDIERS.ORG FOR MORE INFORMATION CONTACT:  LYNELLE 561-369-2933 LYNELLE@FORGOTTENSOLDIERS.ORG \n  \nREGISTER
URL:https://pbkennelclub.com/e/full-battle-rattle-charity-poker-tournament-benefiting-forgotten-soldiers-outreach/
CATEGORIES:All Events,Poker
ATTACH;FMTTYPE=image/png:https://pbkennelclub.com/wp-content/uploads/FSOWebsitepic.png
END:VEVENT
BEGIN:VEVENT
DTSTART;TZID=America/New_York:20220305T180000
DTEND;TZID=America/New_York:20220305T210000
DTSTAMP:20260420T092411
CREATED:20220211T192856Z
LAST-MODIFIED:20220223T150236Z
UID:24211-1646503200-1646514000@pbkennelclub.com
SUMMARY:LIVE MUSIC AT PBKC: THE JEFFREY JAMES GANG
DESCRIPTION:DERBY FEST BAND SERIES WITH THE JEFFREY JAMES GANG ON THE OUTSIDE TRACK WITH FULL BAR\, CORNHOLE\, AND POKER TABLE. DANCE\, DRINK\, AND PLAY A HAND OR TWO!
URL:https://pbkennelclub.com/e/live-music-at-pbkc-the-jeffery-james-gang/
CATEGORIES:All Events,Live
ATTACH;FMTTYPE=image/png:https://pbkennelclub.com/wp-content/uploads/JefferyJamesGang.png
END:VEVENT
BEGIN:VEVENT
DTSTART;TZID=America/New_York:20220305T080000
DTEND;TZID=America/New_York:20220305T220000
DTSTAMP:20260420T092411
CREATED:20220207T212331Z
LAST-MODIFIED:20220207T212331Z
UID:24132-1646467200-1646517600@pbkennelclub.com
SUMMARY:-SANTA ANITA: $650K SANTA ANITA HANDICAP\, $500K BEHOLDER MILE\, $500K FRANK E. KILROE MILE\, $400K SAN FELIPE STAKES; GULFSTREAM:  $400K FASIG-TIPTON FOUNTAIN OF YOUTH STAKES; AQUEDUCT: $300K GOTHAM STAKES
DESCRIPTION:SANTA ANITA: $650K SANTA ANITA HANDICAP\, $500K BEHOLDER MILE\, $500K FRANK E. KILROE MILE\, $400K SAN FELIPE STAKES; GULFSTREAM:  $400K FASIG-TIPTON FOUNTAIN OF YOUTH STAKES; AQUEDUCT: $300K GOTHAM STAKES
URL:https://pbkennelclub.com/e/santa-anita-650k-santa-anita-handicap-500k-beholder-mile-500k-frank-e-kilroe-mile-400k-san-felipe-stakes-gulfstream-400k-fasig-tipton-fountain-of-youth-stakes-aqueduct-300k-gotham-sta/
CATEGORIES:All Events,Simulcast
END:VEVENT
BEGIN:VEVENT
DTSTART;TZID=America/New_York:20220227T090000
DTEND;TZID=America/New_York:20220227T160000
DTSTAMP:20260420T092411
CREATED:20220107T165951Z
LAST-MODIFIED:20220107T165951Z
UID:23750-1645952400-1645977600@pbkennelclub.com
SUMMARY:PBKC SPORTS CARD & MEMORABILIA SHOW - 9AM-4PM - FEATURING SIGNED ICON
DESCRIPTION:SECOND-FLOOR POKER ROOM – OVER 60 VENDORS WITH SPORTS CARDS AND MEMORABILIA TO BUY\, SELL\, TRADE & MUCH MORE! FREE ADMISSION\, DOOR PRIZES AND LIVE BREAKS. VENDOR SPACE AVAILABLE\, CONTACT SIGNEDICON.COM FOR MORE INFO.
URL:https://pbkennelclub.com/e/pbkc-sports-card-memorabilia-show-9am-4pm-featuring-signed-icon/
ATTACH;FMTTYPE=image/png:https://pbkennelclub.com/wp-content/uploads/SportshowEviteBannerJFEB.png
END:VEVENT
BEGIN:VEVENT
DTSTART;VALUE=DATE:20220226
DTEND;VALUE=DATE:20220227
DTSTAMP:20260420T092411
CREATED:20220107T165439Z
LAST-MODIFIED:20220107T165439Z
UID:23747-1645833600-1645919999@pbkennelclub.com
SUMMARY:OAKLAND PARK:  $1 MILLION REBEL STAKES\, $300K HONEYBEE STAKES
DESCRIPTION:OAKLAND PARK: $1 MILLION REBEL STAKES\, $300K HONEYBEE STAKES
URL:https://pbkennelclub.com/e/oakland-park-1-million-rebel-stakes-300k-honeybee-stakes/
CATEGORIES:All Events,Simulcast
ATTACH;FMTTYPE=image/png:https://pbkennelclub.com/wp-content/uploads/OAKLAWNFEB26.png
END:VEVENT
BEGIN:VEVENT
DTSTART;TZID=America/New_York:20220225T181500
DTEND;TZID=America/New_York:20220225T181500
DTSTAMP:20260420T092411
CREATED:20220221T154654Z
LAST-MODIFIED:20220222T213008Z
UID:24326-1645812900-1645812900@pbkennelclub.com
SUMMARY:$10 POKER PARTY - $1000 GUARANTEE
DESCRIPTION:COME JOIN THE PARTY! \n$10 POKER PARTY WITH $1000 GUARANTEE – 6:15PM START – 2ND FLOOR TOURNAMENT ROOM \nIt’s a great opportunity to get in the game and play in a live poker tournament! \n-$1\,000 Guarantee – January $10 poker party prize pool was $3\,850 \n-We welcome new players with (1) free $10 initial buy-in. \n-$10 poker party will be held on the last Friday of every month. \n-Food & Drink Specials
URL:https://pbkennelclub.com/e/10-poker-party-1000-guarantee/
CATEGORIES:All Events,Poker
ATTACH;FMTTYPE=image/jpeg:https://pbkennelclub.com/wp-content/uploads/poker-party.jpeg
END:VEVENT
BEGIN:VEVENT
DTSTART;TZID=America/New_York:20220224T200000
DTEND;TZID=America/New_York:20220224T220000
DTSTAMP:20260420T092411
CREATED:20220114T175615Z
LAST-MODIFIED:20220221T181127Z
UID:23850-1645732800-1645740000@pbkennelclub.com
SUMMARY:OPEN COMEDY MIC NIGHT IN THE PADDOCK
DESCRIPTION: \n\n\n\n\n\n\nLOCAL COMEDIAN\, MARIZA BRUSSOLO\, WILL BE HEADLINING AND HOSTING OUR “LOCAL OPEN MIC COMEDY NIGHT” ON THURSDAY\, FEBRUARY 24TH. YOU WILL NOT WANT TO MISS SOME OF THE BEST LOCAL TALENTS PERFORMING LIVE AT THE PADDOCK AT PBKC. TICKETS ARE ONLY $5. YOU CAN PURCHASE TICKETS ONLINE OR AT THE DOOR.  DOORS OPEN 7PM – ENJOY DINNER BEFORE THE SHOW. \n \nBUY TICKETS HERE\n  \n\n\n 
URL:https://pbkennelclub.com/e/open-comedy-mic-night-in-the-paddock-2/
CATEGORIES:All Events,Live
ATTACH;FMTTYPE=image/jpeg:https://pbkennelclub.com/wp-content/uploads/PBKC-OpenMicNight-Banner-600x400-1.jpg
END:VEVENT
BEGIN:VEVENT
DTSTART;VALUE=DATE:20220221
DTEND;VALUE=DATE:20220222
DTSTAMP:20260420T092411
CREATED:20220107T163410Z
LAST-MODIFIED:20220107T163410Z
UID:23740-1645401600-1645487999@pbkennelclub.com
SUMMARY:PRESIDENT’S DAY - PADDOCK RESTAURANT OPEN AT 11:30AM.
DESCRIPTION:COME CELEBRATE PRESIDENT’S DAY  AT PBKC AND ENJOY A GREAT MEAL AT THE PADDOCK RESTAURANT.
URL:https://pbkennelclub.com/e/presidents-day-paddock-restaurant-open-at-1130am/
CATEGORIES:All Events
ATTACH;FMTTYPE=image/png:https://pbkennelclub.com/wp-content/uploads/PRESIDENTSDAY.png
END:VEVENT
BEGIN:VEVENT
DTSTART;TZID=America/New_York:20220219T190000
DTEND;TZID=America/New_York:20220219T220000
DTSTAMP:20260420T092411
CREATED:20220124T205018Z
LAST-MODIFIED:20220124T205018Z
UID:23945-1645297200-1645308000@pbkennelclub.com
SUMMARY:LIVE MUSIC AT PBKC: THE PEOPLE UPSTAIRS
DESCRIPTION:DERBY FEST BAND SERIES WITH THE PEOPLE UPSTAIRS
URL:https://pbkennelclub.com/e/live-music-at-pbkc-the-people-upstairs/
CATEGORIES:All Events,Live
ATTACH;FMTTYPE=image/jpeg:https://pbkennelclub.com/wp-content/uploads/ThePeopleUpstairs-resized.jpg
END:VEVENT
BEGIN:VEVENT
DTSTART;TZID=America/New_York:20220219T080000
DTEND;TZID=America/New_York:20220219T170000
DTSTAMP:20260420T092411
CREATED:20220107T162228Z
LAST-MODIFIED:20220107T162228Z
UID:23738-1645257600-1645290000@pbkennelclub.com
SUMMARY:FG:  $400K RISEN STAR STAKES\, $300K RACHEL ALEXANDRA STAKES
DESCRIPTION:
URL:https://pbkennelclub.com/e/fg-400k-risen-star-stakes-300k-rachel-alexandra-stakes/
CATEGORIES:All Events,Simulcast
ATTACH;FMTTYPE=image/png:https://pbkennelclub.com/wp-content/uploads/OAKLAWNFEB12-1.png
END:VEVENT
BEGIN:VEVENT
DTSTART;VALUE=DATE:20220219
DTEND;VALUE=DATE:20220220
DTSTAMP:20260420T092411
CREATED:20220107T161113Z
LAST-MODIFIED:20220215T204444Z
UID:23733-1645228800-1645315199@pbkennelclub.com
SUMMARY:PBKC’S 90TH BIRTHDAY CELEBRATION AND THE ROAD TO DERBY FEST LIVE MUSIC SERIES WITH THE PEOPLE UPSTAIRS FROM 7-10PM
DESCRIPTION:PBKC’S 90TH BIRTHDAY CELEBRATION AND THE ROAD TO DERBY FEST LIVE MUSIC SERIES WITH THE PEOPLE UPSTAIRS FROM 7-10PM \nON-TRACK LIVE BAND PLUS TRACKSIDE PARTY WITH BBQ AND BAR AND BIRTHDAY FESTIVITIES. \nMORE INFO
URL:https://pbkennelclub.com/e/pbkcs-89th-birthday-celebration/
CATEGORIES:All Events
ATTACH;FMTTYPE=image/png:https://pbkennelclub.com/wp-content/uploads/90THBIRTHDAY.png
END:VEVENT
BEGIN:VEVENT
DTSTART;TZID=America/New_York:20220213T180000
DTEND;TZID=America/New_York:20220213T230000
DTSTAMP:20260420T092411
CREATED:20220107T145913Z
LAST-MODIFIED:20220201T152605Z
UID:23730-1644775200-1644793200@pbkennelclub.com
SUMMARY:SUPER BOWL SUNDAY – PADDOCK SUPER BOWL PARTY
DESCRIPTION:COME ENJOY THIS YEARS SUPERBOWL WITH US WITH A FULL BUFFET\, GIVEAWAYS\, CASH BAR AND MORE!  \n$50.00 per person- \n Including-\nGarden Salad\nPulled chicken\nPork Loin Carving station\nChicken wings\nPizza\nMeatballs\nPasta\nItalian sausage with peppers and onions\nVeggies and tater tots\nHot dogs\nBuild your own nacho station and MORE! \nAlso served with your choice of\n2 draft beers\, 1 mixed drink or 1 glass of wine \nFLYER
URL:https://pbkennelclub.com/e/super-bowl-sunday-paddock-super-bowl-party/
CATEGORIES:All Events,Dining
ATTACH;FMTTYPE=image/png:https://pbkennelclub.com/wp-content/uploads/SuperbowlParty.png
END:VEVENT
BEGIN:VEVENT
DTSTART;VALUE=DATE:20220212
DTEND;VALUE=DATE:20220213
DTSTAMP:20260420T092411
CREATED:20220107T145528Z
LAST-MODIFIED:20220107T145542Z
UID:23726-1644624000-1644710399@pbkennelclub.com
SUMMARY:OAKLAND PARK:  $600K RAZORBACK HANDICAP
DESCRIPTION:
URL:https://pbkennelclub.com/e/oakland-park-600k-razorback-handicap/
CATEGORIES:All Events,Simulcast
ATTACH;FMTTYPE=image/png:https://pbkennelclub.com/wp-content/uploads/OAKLAWNFEB12.png
END:VEVENT
BEGIN:VEVENT
DTSTART;VALUE=DATE:20220211
DTEND;VALUE=DATE:20220213
DTSTAMP:20260420T092411
CREATED:20220114T170945Z
LAST-MODIFIED:20220208T190202Z
UID:23845-1644537600-1644710399@pbkennelclub.com
SUMMARY:VALENTINE’S WEEKEND SPECIALS IN THE PADDOCK RESTAURANT
DESCRIPTION:CELEBRATE VALENTINE’S DAY – FEB. 11 & 12 – FROM 6PM \n$98 PER COUPLE – CHOICE OF APPETIZER & DESSERT  \nENTREE: TWIN LOBSTER TAILS\, SALMON\, HALIBUT\, BEEF TENDERLOIN\, LOBSTER RAVIOLI & LAMB CHOPS \nLIVE MUSIC SAT. 2/12 FROM 6-9PM BY PHIL FEST.  \nFOR RESERVATIONS:\nPADDOCK RESTAURANT CALL 561-683-2222 X199\nTERRACE RESTAURANT CALL 561-683-2222 X375 \nMENU \n 
URL:https://pbkennelclub.com/e/valentines-weekend-specials-in-the-paddock-restaurant/
CATEGORIES:All Events,Dining
ATTACH;FMTTYPE=image/png:https://pbkennelclub.com/wp-content/uploads/ValentinesDaySpeicalsIICON.png
END:VEVENT
BEGIN:VEVENT
DTSTART;TZID=America/New_York:20220205T190000
DTEND;TZID=America/New_York:20220205T220000
DTSTAMP:20260420T092411
CREATED:20220124T205741Z
LAST-MODIFIED:20220124T205741Z
UID:23948-1644087600-1644098400@pbkennelclub.com
SUMMARY:LIVE MUSIC AT PBKC: THE KINNECTED
DESCRIPTION:DERBY FEST BAND SERIES WITH THE KINNECTED
URL:https://pbkennelclub.com/e/live-music-at-pbkc-the-kinnected/
CATEGORIES:All Events,Live
ATTACH;FMTTYPE=image/jpeg:https://pbkennelclub.com/wp-content/uploads/kinectedRESIZED.jpeg
END:VEVENT
BEGIN:VEVENT
DTSTART;TZID=America/New_York:20220205T120000
DTEND;TZID=America/New_York:20220205T220000
DTSTAMP:20260420T092411
CREATED:20220126T181836Z
LAST-MODIFIED:20220127T183105Z
UID:23962-1644062400-1644098400@pbkennelclub.com
SUMMARY:PBKC POKER ROOM 25TH BIRTHDAY CELEBRATION
DESCRIPTION:POKER ROOM AT PBKC 25TH BIRTHDAY PARTY – SATURDAY\, FEBRUARY 5TH \n-WIN $25\,000 CASH – NOW THRU 2/5 WITH EVERY HIGH HAND YOU’LL RECEIVE AN ENTRY TO WIN ONE OF FIVE $5000 CASH PRIZES. \n-$25\,000 GUARANTEE 25TH BIRTHDAY CELEBRATION TOURNAMENT – 12:15PM START – $250 BUY-IN WITH $50 BOUNTIES BEGINS AT 12:15PM.  LATE REGISTRATION UNTIL 3:35PM – LIVE STREAMING FINAL TABLE. \n-BIRTHDAY CELEBRATION WITH LIVE MUSIC BY THE KINECTED (7-10PM)\, BBQ\, BEERS\, CUPCAKES & FUN! \npoker 25th birthday bash
URL:https://pbkennelclub.com/e/pbkc-poker-room-25th-birthday-celebration-2/
CATEGORIES:All Events,Poker
ATTACH;FMTTYPE=image/png:https://pbkennelclub.com/wp-content/uploads/POKER25THANN.png
END:VEVENT
BEGIN:VEVENT
DTSTART;TZID=America/New_York:20220204T180000
DTEND;TZID=America/New_York:20220204T220000
DTSTAMP:20260420T092411
CREATED:20220107T182244Z
LAST-MODIFIED:20220107T182244Z
UID:23753-1643997600-1644012000@pbkennelclub.com
SUMMARY:JACKIE & KEVIN FLYNN LIVE IN THE PADDOCK
DESCRIPTION:You will not want to miss Jackie Flynn & Kevin Flynn perform Friday\, February 4th at The Paddock at PBKC.\nBoth Flynn’s began their comedy careers in Boston’s red hot comedy scene in the late 80’s. It was not long before they were both headlining comedy clubs from NY to LA and everywhere in between.\nJackie currently is a regular character in the Hit TV series LOUDERMILK. Jackie recently completed shooting THE WORLD’S GREATEST BEER RUN in Thailand\, starring Russell Crowe\, Bill Murray and Zac Ephron\, due in theaters and Apple TV summer of 2022.\nKevin Flynn\, as a writer\, actor\, producer and comedian\, has done it all. As an actor Flynn has appeared in a number of movies including the The Heartbreak Kid with Ben Stiller\, Me\, Myself and Irene with Jim Carey as well as starring as one of the series “most popular boyfriends” as voted by viewers\, on HBO’s hit series SEX AND THE CITY. Kevin is also the Executive Director of The Nantucket Comedy Festival in support of a non-profit “Stand-Up and Learn”\, an ongoing project that teaches school kids self-confidence through stand-up. Kevin is currently touring nationally with his latest one-man show\, FEAR OF HEIGHTS-A VERY FUNNY PHOBIA.\n  \nBUY TICKETS HERE
URL:https://pbkennelclub.com/e/jackie-kevin-flynn-live-in-the-paddock/
CATEGORIES:All Events,Live
ATTACH;FMTTYPE=image/jpeg:https://pbkennelclub.com/wp-content/uploads/JackieandKevinFlynnresized.jpg
END:VEVENT
BEGIN:VEVENT
DTSTART;TZID=America/New_York:20220201T110000
DTEND;TZID=America/New_York:20220201T130000
DTSTAMP:20260420T092411
CREATED:20220106T171446Z
LAST-MODIFIED:20220114T153127Z
UID:23720-1643713200-1643720400@pbkennelclub.com
SUMMARY:THE SPORTS BUSINESS CLUB OF THE PALM BEACHES\, IN THE PADDOCK
DESCRIPTION:About this event\n\n\n\n\n\n\nThe Sports Business Club of The Palm Beaches is South Florida’s premier sports organization focused on educating about the value of sports in local businesses. Each month\, The Sports Business Club of The Palm Beaches will cover a new topic in sports. We will feature some of the best speakers in the sports industry throughout South Florida. This is an event any sports fan will not want to miss. Our events are open to the public for a $20.00 ticket fee. \nJoin us Tuesday\, February 1\, 2022 for our luncheon. Doors will open at 11am and our featured speaker will begin at 12PM. Our featured speaker to be named soon. \nFor any questions\, please contact Jessica Coy at jcoy@pbkennelclub.com \n  \nBuffet & Networking 11am – 12pm \nProgram begins at 12pm \nCash Bar Available \n$20 Tickets purchased on Eventbrite or at the door. \n$5 Valet Parking \n\n\n\n\n\n  \n\nBUY TICKETS HERE
URL:https://pbkennelclub.com/e/the-sports-business-club-of-the-palm-beaches-in-the-paddock-2/
CATEGORIES:All Events,Live
ATTACH;FMTTYPE=image/png:https://pbkennelclub.com/wp-content/uploads/TheSportsCardClub.png
END:VEVENT
BEGIN:VEVENT
DTSTART;VALUE=DATE:20220201
DTEND;VALUE=DATE:20220301
DTSTAMP:20260420T092411
CREATED:20220106T170952Z
LAST-MODIFIED:20220124T173818Z
UID:23718-1643673600-1646092799@pbkennelclub.com
SUMMARY:FEBRUARY IN THE POKER ROOM
DESCRIPTION:FEBRUARY  IN THE POKER ROOM – CASH GAMES\, BAD BEAT JACKPOTS & DAILY HIGH HAND PROMOTIONS \nNEW TOURNAMENT SCHEDULE:  EVERY DAY AT 12:15PM AND MON.\, WED. THRU SAT. AT  6:15PM \nEarn player appreciation tournament points to win cash prizes & event entry tickets. \nFEB. HIGH HANDS -Sun. thru Thurs. High Hands $250 every 20 minutes from 9am-Midnight. \n-Fri. & Sat. Gigantic High Hands $500 every 20 minutes from 9am-Midnight
URL:https://pbkennelclub.com/e/february-in-the-poker-room-2/
CATEGORIES:All Events,Poker
ATTACH;FMTTYPE=image/jpeg:https://pbkennelclub.com/wp-content/uploads/PBKC-Aces-e1632835877979.jpg
END:VEVENT
BEGIN:VEVENT
DTSTART;TZID=America/New_York:20220130T090000
DTEND;TZID=America/New_York:20220130T160000
DTSTAMP:20260420T092411
CREATED:20211222T195755Z
LAST-MODIFIED:20211222T195755Z
UID:23465-1643533200-1643558400@pbkennelclub.com
SUMMARY:SPORTS CARD SHOW - FEATURING SIGNED ICON WITH ESPN 106.3FM
DESCRIPTION:JOIN US JANUARY 30TH  FOR THE SPORTS CARD AND MEMORABILIA SHOW\, SECOND FLOOR HERE AT PBKC \nFREE ADMISSION\, OVER 60 VENDORS\, DOOR PRIZES\, LIVE BREAKS\, GREAT FOOD\, FULL BARS\, AND FREE PARKING. \nVENDORS SPACE AVAILABLE\, CONTACT SIGNEDICON.COM FOR MORE INFO.
URL:https://pbkennelclub.com/e/sports-card-show-featuring-signed-icon-with-espn-106-3fm/
CATEGORIES:All Events
ATTACH;FMTTYPE=image/png:https://pbkennelclub.com/wp-content/uploads/SportshowEviteBannerJAN-e1640203055601.png
END:VEVENT
BEGIN:VEVENT
DTSTART;TZID=America/New_York:20220129T170000
DTEND;TZID=America/New_York:20220129T220000
DTSTAMP:20260420T092411
CREATED:20220114T164826Z
LAST-MODIFIED:20220127T182748Z
UID:23839-1643475600-1643493600@pbkennelclub.com
SUMMARY:$10 POKER PARTY WITH $1\,000 GUARANTEE
DESCRIPTION:2ND FLOOR TOURNAMENT ROOM – ONE FREE ENTRY TO NEW PLAYERS WITH $5 FOOD/BEVERAGE COUPON WITH INITIAL ENTRY. FIRST 100 PLAYERS GUARANTEED A SEAT.  CARDS IN THE AIR AT 6:15PM\, LATE REGISTRATION OPEN UNTIL 8:30PM.
URL:https://pbkennelclub.com/e/10-poker-party-with-1000-guarantee/
CATEGORIES:All Events,Poker
ATTACH;FMTTYPE=image/png:https://pbkennelclub.com/wp-content/uploads/10pokerparty.png
END:VEVENT
BEGIN:VEVENT
DTSTART;TZID=America/New_York:20220129T080000
DTEND;TZID=America/New_York:20220129T220000
DTSTAMP:20260420T092411
CREATED:20211220T210449Z
LAST-MODIFIED:20220106T170349Z
UID:23439-1643443200-1643493600@pbkennelclub.com
SUMMARY:GULFSTREAM PARK:  $3 MILLION PEGASUS WORLD CUP INVITATIONAL/ $1 MILLION WORLD CUP TURF INVITATIONAL\, $500K PEGASUS FILL & MARE TURF
DESCRIPTION:It’s a full afternoon of great horse racing with the 6th annual Pegasus and other top races from Gulfstream. The Paddock Restaurant is selling tickets which includes lunch. \n-Oaklawn: $750K Southwest Stakes
URL:https://pbkennelclub.com/e/gulfstream-park-3-million-pegasus-world-cup-invitational-1-million-world-cup-turf-invitational-500k-pegasus-fill-mare-turf/
CATEGORIES:All Events,Simulcast
ATTACH;FMTTYPE=image/png:https://pbkennelclub.com/wp-content/uploads/GUFSTREAM1-29-1.png
END:VEVENT
BEGIN:VEVENT
DTSTART;TZID=America/New_York:20220127T190000
DTEND;TZID=America/New_York:20220127T220000
DTSTAMP:20260420T092411
CREATED:20211227T181529Z
LAST-MODIFIED:20220114T173917Z
UID:23502-1643310000-1643320800@pbkennelclub.com
SUMMARY:OPEN COMEDY MIC NIGHT IN THE PADDOCK
DESCRIPTION: \n\n\n\n\n\n\nLOCAL COMEDIAN\, MARIZA BRUSSOLO\, WILL BE HEADLINING AND HOSTING OUR “LOCAL OPEN MIC COMEDY NIGHT” ON THURSDAY\, JANUARY 27TH. YOU WILL NOT WANT TO MISS SOME OF THE BEST LOCAL TALENTS PERFORMING LIVE AT THE PADDOCK AT PBKC. TICKETS ARE ONLY $5. YOU CAN PURCHASE TICKETS ONLINE OR AT THE DOOR. \n \nBUY TICKETS\n  \n\n\n 
URL:https://pbkennelclub.com/e/open-comedy-mic-night-in-the-paddock/
CATEGORIES:All Events,Live
ATTACH;FMTTYPE=image/png:https://pbkennelclub.com/wp-content/uploads/OpenMicflyer.png
END:VEVENT
END:VCALENDAR