BEGIN:VCALENDAR
VERSION:2.0
PRODID:-//Palm Beach Kennel Club - ECPv6.15.20//NONSGML v1.0//EN
CALSCALE:GREGORIAN
METHOD:PUBLISH
X-WR-CALNAME:Palm Beach Kennel Club
X-ORIGINAL-URL:https://pbkennelclub.com
X-WR-CALDESC:Events for Palm Beach Kennel Club
REFRESH-INTERVAL;VALUE=DURATION:PT1H
X-Robots-Tag:noindex
X-PUBLISHED-TTL:PT1H
BEGIN:VTIMEZONE
TZID:America/New_York
BEGIN:DAYLIGHT
TZOFFSETFROM:-0500
TZOFFSETTO:-0400
TZNAME:EDT
DTSTART:20250309T070000
END:DAYLIGHT
BEGIN:STANDARD
TZOFFSETFROM:-0400
TZOFFSETTO:-0500
TZNAME:EST
DTSTART:20251102T060000
END:STANDARD
BEGIN:DAYLIGHT
TZOFFSETFROM:-0500
TZOFFSETTO:-0400
TZNAME:EDT
DTSTART:20260308T070000
END:DAYLIGHT
BEGIN:STANDARD
TZOFFSETFROM:-0400
TZOFFSETTO:-0500
TZNAME:EST
DTSTART:20261101T060000
END:STANDARD
BEGIN:DAYLIGHT
TZOFFSETFROM:-0500
TZOFFSETTO:-0400
TZNAME:EDT
DTSTART:20270314T070000
END:DAYLIGHT
BEGIN:STANDARD
TZOFFSETFROM:-0400
TZOFFSETTO:-0500
TZNAME:EST
DTSTART:20271107T060000
END:STANDARD
END:VTIMEZONE
BEGIN:VEVENT
DTSTART;VALUE=DATE:20260516
DTEND;VALUE=DATE:20260517
DTSTAMP:20260422T192350
CREATED:20260422T133944Z
LAST-MODIFIED:20260422T133944Z
UID:32326-1778889600-1778975999@pbkennelclub.com
SUMMARY:PREAKNESS DAY AT PBKC - MAY 16
DESCRIPTION:Sat.\, May 16                               \nPreakness Day at PBKC – Join us for the $2 Million Preakness Stakes from Laurel Park—the second jewel of the Triple Crown.  Watch the races\, place your bets and cheer on your picks at PBKC! \nEnjoy dining & the races in the Paddock Restaurant – call 561-683-2222 ext. 199 for reservations.  \nFri.\, May 15                                \nDon’t miss the $300K Black-Eyed Susan Stakes.
URL:https://pbkennelclub.com/e/preakness-day-at-pbkc-may-16/
LOCATION:PBKC AT PALM BEACH KENNEL CLUB\, 1111 N. CONGRESS AVE.\, WEST PALM BEACH\, FL\, 33409\, United States
CATEGORIES:All Events,Simulcast
ATTACH;FMTTYPE=image/jpeg:https://pbkennelclub.com/wp-content/uploads/PBKC-UpcomingOTB-2026-Slide-MAY15.jpg
END:VEVENT
END:VCALENDAR